BEGIN:VCALENDAR
VERSION:2.0
PRODID:-//Microlink - ECPv6.15.17.1//NONSGML v1.0//EN
CALSCALE:GREGORIAN
METHOD:PUBLISH
X-WR-CALNAME:Microlink
X-ORIGINAL-URL:https://www.microlinkpc.com
X-WR-CALDESC:Events for Microlink
REFRESH-INTERVAL;VALUE=DURATION:PT1H
X-Robots-Tag:noindex
X-PUBLISHED-TTL:PT1H
BEGIN:VTIMEZONE
TZID:UTC
BEGIN:STANDARD
TZOFFSETFROM:+0000
TZOFFSETTO:+0000
TZNAME:UTC
DTSTART:20240101T000000
END:STANDARD
END:VTIMEZONE
BEGIN:VEVENT
DTSTART;TZID=UTC:20250529T140000
DTEND;TZID=UTC:20250529T150000
DTSTAMP:20260421T093822
CREATED:20250129T113918Z
LAST-MODIFIED:20260205T163143Z
UID:10000019-1748527200-1748530800@www.microlinkpc.com
SUMMARY:PurpleSpace ERGs: Empowering Disability Confident Networks
DESCRIPTION:Learn how PurpleSpace’s Employee Resource Groups (ERGs) empower employees with disabilities\, build leadership pathways\, and contribute to Disability Confident goals. This session will share actionable advice on setting up and sustaining ERGs that deliver impact. \nWe will be joined by three inspiring speakers: \nSally-Anne Owen\, Managing Director at Purple Space- a strategic thinker and passionate advocate for Diversity and Inclusion. Her warm\, personable leadership style is at the heart of her work supporting global disability ERGs and networks. Drawing on her lived experience with MS\, which she proudly redefines as “Mighty Strong”\, Sally helps organisations foster inclusive cultures where everyone can thrive. \nSuzie Austen\, Brand Manager at WTW and participant in PurpleSpace’s Future Makers programme\, brings extensive experience as co-chair of the Workability Inclusion network and co-pillar lead for Disability Smart. In 2024\, she was recognised with WTW’s CEO Circle Award for her impactful work. Suzie manages dyslexia\, Hypermobile Ehlers-Danlos Syndrome\, depression\, PTSD\, and panic disorder; experiences that drive her passion for creating inclusive and supportive work environments. Her commitment has helped WTW become a Disability Confident Leader. \nAnnette Moody\, Group Technology Governance Director at Serco\, is responsible for global technology standards and digital strategy. In 2013\, shortly after joining Serco\, Annette became paralysed following a spinal cord injury. After 10 months of intensive rehabilitation\, she returned to work using a wheelchair and went on to co-found ‘Unlimited’\, Serco’s disability network\, which supports and attracts colleagues with all types of disabilities.
URL:https://www.microlinkpc.com/event/purplespace-ergs-empowering-disability-confident-networks/
ORGANIZER;CN="Microlink PC":MAILTO:azadeh.sotoudeh@microlinkpc.com
LOCATION:https://us02web.zoom.us/webinar/register/WN_9TeygGahSfC4qxDdLfb2uw
END:VEVENT
END:VCALENDAR