BEGIN:VCALENDAR
VERSION:2.0
PRODID:-//Microlink - ECPv6.15.17.1//NONSGML v1.0//EN
CALSCALE:GREGORIAN
METHOD:PUBLISH
X-WR-CALNAME:Microlink
X-ORIGINAL-URL:https://www.microlinkpc.com
X-WR-CALDESC:Events for Microlink
REFRESH-INTERVAL;VALUE=DURATION:PT1H
X-Robots-Tag:noindex
X-PUBLISHED-TTL:PT1H
BEGIN:VTIMEZONE
TZID:UTC
BEGIN:STANDARD
TZOFFSETFROM:+0000
TZOFFSETTO:+0000
TZNAME:UTC
DTSTART:20240101T000000
END:STANDARD
END:VTIMEZONE
BEGIN:VEVENT
DTSTART;TZID=UTC:20250327T140000
DTEND;TZID=UTC:20250327T150000
DTSTAMP:20260421T061342
CREATED:20250129T113308Z
LAST-MODIFIED:20260205T163247Z
UID:10000017-1743084000-1743087600@www.microlinkpc.com
SUMMARY:Neurodivergent Conditions: Support in the Workplace
DESCRIPTION:This trending workplace topic featuring Ruhel Ahmed from ACAS\, Dr Nancy Doyle and Prof Almuth McDowall will explore the challenges neurodivergent employees face\, including communication barriers\, sensory sensitivities\, and time management struggles. Speakers will also discuss “masking” and its impact on wellbeing\, along with legal responsibilities and workplace adjustments. Employers will gain practical strategies to support a neuroinclusive workplace\, reduce stigma\, and provide better support.
URL:https://www.microlinkpc.com/event/autism-and-neurodiverse-conditions-support-in-the-workplace/
ORGANIZER;CN="Microlink PC":MAILTO:azadeh.sotoudeh@microlinkpc.com
LOCATION:https://us02web.zoom.us/webinar/register/WN_I-CDslOMQzewP5Xjh3u8eg
END:VEVENT
END:VCALENDAR